BEGIN:VCALENDAR
VERSION:2.0
PRODID:-//Rotary Club Abomey Calavi - ECPv6.8.3//NONSGML v1.0//EN
CALSCALE:GREGORIAN
METHOD:PUBLISH
X-WR-CALNAME:Rotary Club Abomey Calavi
X-ORIGINAL-URL:https://rotaryclubabomeycalavi.org
X-WR-CALDESC:Events for Rotary Club Abomey Calavi
REFRESH-INTERVAL;VALUE=DURATION:PT1H
X-Robots-Tag:noindex
X-PUBLISHED-TTL:PT1H
BEGIN:VTIMEZONE
TZID:Europe/Paris
BEGIN:DAYLIGHT
TZOFFSETFROM:+0100
TZOFFSETTO:+0200
TZNAME:CEST
DTSTART:20240331T010000
END:DAYLIGHT
BEGIN:STANDARD
TZOFFSETFROM:+0200
TZOFFSETTO:+0100
TZNAME:CET
DTSTART:20241027T010000
END:STANDARD
END:VTIMEZONE
BEGIN:VEVENT
DTSTART;TZID=Europe/Paris:20240201T080000
DTEND;TZID=Europe/Paris:20240201T170000
DTSTAMP:20260425T001132
CREATED:20240203T031356Z
LAST-MODIFIED:20240203T031356Z
UID:1736-1706774400-1706806800@rotaryclubabomeycalavi.org
SUMMARY:Réunions de commission et de comité
DESCRIPTION:
URL:https://rotaryclubabomeycalavi.org/event/reunions-de-commission-et-de-comite/
LOCATION:Cotonou\, NOBILA Airport Hôtel sur la route de l’aéroport\, cotonou\, litoral\, Bénin
CATEGORIES:Chronogramme des activités du mandat,Mois de la paix et prévention/ résolution des conflits
ATTACH;FMTTYPE=image/jpeg:https://rotaryclubabomeycalavi.org/wp-content/uploads/2023/12/NOBILIA-Airport-Hotel.jpg
END:VEVENT
END:VCALENDAR