BEGIN:VCALENDAR
VERSION:2.0
PRODID:-//Rotary Club Abomey Calavi - ECPv6.8.3//NONSGML v1.0//EN
CALSCALE:GREGORIAN
METHOD:PUBLISH
X-WR-CALNAME:Rotary Club Abomey Calavi
X-ORIGINAL-URL:https://rotaryclubabomeycalavi.org
X-WR-CALDESC:Events for Rotary Club Abomey Calavi
REFRESH-INTERVAL;VALUE=DURATION:PT1H
X-Robots-Tag:noindex
X-PUBLISHED-TTL:PT1H
BEGIN:VTIMEZONE
TZID:Europe/Paris
BEGIN:DAYLIGHT
TZOFFSETFROM:+0100
TZOFFSETTO:+0200
TZNAME:CEST
DTSTART:20230326T010000
END:DAYLIGHT
BEGIN:STANDARD
TZOFFSETFROM:+0200
TZOFFSETTO:+0100
TZNAME:CET
DTSTART:20231029T010000
END:STANDARD
BEGIN:DAYLIGHT
TZOFFSETFROM:+0100
TZOFFSETTO:+0200
TZNAME:CEST
DTSTART:20240331T010000
END:DAYLIGHT
BEGIN:STANDARD
TZOFFSETFROM:+0200
TZOFFSETTO:+0100
TZNAME:CET
DTSTART:20241027T010000
END:STANDARD
END:VTIMEZONE
BEGIN:VEVENT
DTSTART;VALUE=DATE:20240228
DTEND;VALUE=DATE:20240229
DTSTAMP:20260421T153230
CREATED:20240203T032814Z
LAST-MODIFIED:20240203T032814Z
UID:1745-1709078400-1709164799@rotaryclubabomeycalavi.org
SUMMARY:Réunions de commission et de comité
DESCRIPTION:
URL:https://rotaryclubabomeycalavi.org/event/reunions-de-commission-et-de-comite-2/
CATEGORIES:Chronogramme des activités du mandat,Mois de la paix et prévention/ résolution des conflits
ATTACH;FMTTYPE=image/jpeg:https://rotaryclubabomeycalavi.org/wp-content/uploads/2023/12/NOBILIA-Airport-Hotel.jpg
END:VEVENT
BEGIN:VEVENT
DTSTART;VALUE=DATE:20240216
DTEND;VALUE=DATE:20240217
DTSTAMP:20260421T153230
CREATED:20240203T032224Z
LAST-MODIFIED:20240203T032339Z
UID:1742-1708041600-1708127999@rotaryclubabomeycalavi.org
SUMMARY:Réunion statutaire
DESCRIPTION:Minutes d’enseignement sur mon rotary\n«Rotary et paix dans le monde » PAG Stan
URL:https://rotaryclubabomeycalavi.org/event/reunion-statutaire-3/
LOCATION:Cotonou\, NOBILA Airport Hôtel sur la route de l’aéroport\, cotonou\, litoral\, Bénin
CATEGORIES:Chronogramme des activités du mandat,Mois de la paix et prévention/ résolution des conflits
ATTACH;FMTTYPE=image/jpeg:https://rotaryclubabomeycalavi.org/wp-content/uploads/2023/12/NOBILIA-Airport-Hotel.jpg
END:VEVENT
BEGIN:VEVENT
DTSTART;VALUE=DATE:20240210
DTEND;VALUE=DATE:20240211
DTSTAMP:20260421T153230
CREATED:20240203T031948Z
LAST-MODIFIED:20240203T031948Z
UID:1740-1707523200-1707609599@rotaryclubabomeycalavi.org
SUMMARY:Tournoi de Volley-ball
DESCRIPTION:
URL:https://rotaryclubabomeycalavi.org/event/tournoi-de-volley-ball/
LOCATION:Abomey Calavi\, calavi\, Atlantique\, Bénin
CATEGORIES:Chronogramme des activités du mandat,Mois de la paix et prévention/ résolution des conflits
ATTACH;FMTTYPE=image/jpeg:https://rotaryclubabomeycalavi.org/wp-content/uploads/2023/12/nouveau-logo-du-RCAC.jpg
END:VEVENT
BEGIN:VEVENT
DTSTART;VALUE=DATE:20240202
DTEND;VALUE=DATE:20240203
DTSTAMP:20260421T153230
CREATED:20240203T031628Z
LAST-MODIFIED:20240203T031628Z
UID:1738-1706832000-1706918399@rotaryclubabomeycalavi.org
SUMMARY:Réunion statutaire
DESCRIPTION:Minutes d’enseignement sur mon rotary\n« Paix et développement »
URL:https://rotaryclubabomeycalavi.org/event/reunion-statutaire-2/
LOCATION:Cotonou\, NOBILA Airport Hôtel sur la route de l’aéroport\, cotonou\, litoral\, Bénin
CATEGORIES:Chronogramme des activités du mandat,Mois de la paix et prévention/ résolution des conflits
ATTACH;FMTTYPE=image/jpeg:https://rotaryclubabomeycalavi.org/wp-content/uploads/2023/12/NOBILIA-Airport-Hotel.jpg
END:VEVENT
BEGIN:VEVENT
DTSTART;TZID=Europe/Paris:20240201T080000
DTEND;TZID=Europe/Paris:20240201T170000
DTSTAMP:20260421T153230
CREATED:20240203T031356Z
LAST-MODIFIED:20240203T031356Z
UID:1736-1706774400-1706806800@rotaryclubabomeycalavi.org
SUMMARY:Réunions de commission et de comité
DESCRIPTION:
URL:https://rotaryclubabomeycalavi.org/event/reunions-de-commission-et-de-comite/
LOCATION:Cotonou\, NOBILA Airport Hôtel sur la route de l’aéroport\, cotonou\, litoral\, Bénin
CATEGORIES:Chronogramme des activités du mandat,Mois de la paix et prévention/ résolution des conflits
ATTACH;FMTTYPE=image/jpeg:https://rotaryclubabomeycalavi.org/wp-content/uploads/2023/12/NOBILIA-Airport-Hotel.jpg
END:VEVENT
BEGIN:VEVENT
DTSTART;VALUE=DATE:20231223
DTEND;VALUE=DATE:20231224
DTSTAMP:20260421T153230
CREATED:20231213T142107Z
LAST-MODIFIED:20231214T151821Z
UID:1555-1703289600-1703375999@rotaryclubabomeycalavi.org
SUMMARY:Réhabilitation d’un bâtiment au centre psychiatrique de Jacquot
DESCRIPTION:
URL:https://rotaryclubabomeycalavi.org/event/rehabilitation-dun-batiment-au-centre-psychiatrique-de-jacquot/
LOCATION:Cotonou\, NOBILA Airport Hôtel sur la route de l’aéroport\, cotonou\, litoral\, Bénin
CATEGORIES:Chronogramme des activités du mandat,Mois de la famille Mois de la prévention et du traitement des maladies
ATTACH;FMTTYPE=image/jpeg:https://rotaryclubabomeycalavi.org/wp-content/uploads/2023/12/Nouveau-Fanion-du-club.jpg
END:VEVENT
BEGIN:VEVENT
DTSTART;VALUE=DATE:20231209
DTEND;VALUE=DATE:20231210
DTSTAMP:20260421T153230
CREATED:20231213T141616Z
LAST-MODIFIED:20231214T151930Z
UID:1551-1702080000-1702166399@rotaryclubabomeycalavi.org
SUMMARY:Don de sang ou dépistage des affections bucco-dentaires ou des affections oculaires
DESCRIPTION:
URL:https://rotaryclubabomeycalavi.org/event/don-de-sang-ou-depistage-des-affections-bucco-dentaires-ou-des-affections-oculaires/
LOCATION:Cotonou\, NOBILA Airport Hôtel sur la route de l’aéroport\, cotonou\, litoral\, Bénin
CATEGORIES:Chronogramme des activités du mandat,Mois de la famille Mois de la prévention et du traitement des maladies
ATTACH;FMTTYPE=image/jpeg:https://rotaryclubabomeycalavi.org/wp-content/uploads/2023/12/Nouveau-Fanion-du-club.jpg
END:VEVENT
BEGIN:VEVENT
DTSTART;VALUE=DATE:20230703
DTEND;VALUE=DATE:20230704
DTSTAMP:20260421T153230
CREATED:20231213T135037Z
LAST-MODIFIED:20231214T151308Z
UID:1544-1688342400-1688428799@rotaryclubabomeycalavi.org
SUMMARY:Réunion de comité
DESCRIPTION:
URL:https://rotaryclubabomeycalavi.org/event/reunion-de-comite/
LOCATION:Cotonou\, NOBILA Airport Hôtel sur la route de l’aéroport\, cotonou\, litoral\, Bénin
CATEGORIES:Chronogramme des activités du mandat,Mois de la santé de la mère et de l’enfant
ATTACH;FMTTYPE=image/jpeg:https://rotaryclubabomeycalavi.org/wp-content/uploads/2023/12/NOBILIA-Airport-Hotel.jpg
END:VEVENT
END:VCALENDAR